BEGIN:VCALENDAR
VERSION:2.0
PRODID:-//Gallatin Community Gun Club - ECPv6.15.20//NONSGML v1.0//EN
CALSCALE:GREGORIAN
METHOD:PUBLISH
X-WR-CALNAME:Gallatin Community Gun Club
X-ORIGINAL-URL:https://gallatincommunitygunclub.org
X-WR-CALDESC:Events for Gallatin Community Gun Club
REFRESH-INTERVAL;VALUE=DURATION:PT1H
X-Robots-Tag:noindex
X-PUBLISHED-TTL:PT1H
BEGIN:VTIMEZONE
TZID:America/Denver
BEGIN:DAYLIGHT
TZOFFSETFROM:-0700
TZOFFSETTO:-0600
TZNAME:MDT
DTSTART:20250309T090000
END:DAYLIGHT
BEGIN:STANDARD
TZOFFSETFROM:-0600
TZOFFSETTO:-0700
TZNAME:MST
DTSTART:20251102T080000
END:STANDARD
BEGIN:DAYLIGHT
TZOFFSETFROM:-0700
TZOFFSETTO:-0600
TZNAME:MDT
DTSTART:20260308T090000
END:DAYLIGHT
BEGIN:STANDARD
TZOFFSETFROM:-0600
TZOFFSETTO:-0700
TZNAME:MST
DTSTART:20261101T080000
END:STANDARD
BEGIN:DAYLIGHT
TZOFFSETFROM:-0700
TZOFFSETTO:-0600
TZNAME:MDT
DTSTART:20270314T090000
END:DAYLIGHT
BEGIN:STANDARD
TZOFFSETFROM:-0600
TZOFFSETTO:-0700
TZNAME:MST
DTSTART:20271107T080000
END:STANDARD
END:VTIMEZONE
BEGIN:VEVENT
DTSTART;TZID=America/Denver:20260307T100000
DTEND;TZID=America/Denver:20260307T120000
DTSTAMP:20260423T043121
CREATED:20260221T135805Z
LAST-MODIFIED:20260222T164916Z
UID:4231-1772877600-1772884800@gallatincommunitygunclub.org
SUMMARY:🌎Affinity: Auto Maintenance Workshop {Chase}
DESCRIPTION:Must be a GCGC member to attend. \nRSVP: https://tidycal.com/gallatincommunitygunclub/auto-maintenance-workshop \nExcited to announce an Auto Maintenance Workshop. The plan is to first demonstrate a battery and oil change\, then start Chase’s truck “Sunshine”\, which has been sitting. Chase will have a second engine on a stand and we will go over components and basic troubleshooting. Saturday March 7th 10:00 AM to noonish\, Chase will have some snacks and hot drinks available. We hope to see you there!
URL:https://gallatincommunitygunclub.org/event/%f0%9f%8c%8eaffinity-auto-maintenance-workshop-chase/
CATEGORIES:Class
ATTACH;FMTTYPE=image/png:https://gallatincommunitygunclub.org/wp-content/uploads/2026/02/Auto-Maintenance-Workshop.png
END:VEVENT
BEGIN:VEVENT
DTSTART;TZID=America/Denver:20260307T120000
DTEND;TZID=America/Denver:20260307T150000
DTSTAMP:20260423T043121
CREATED:20260221T182309Z
LAST-MODIFIED:20260303T145550Z
UID:4266-1772884800-1772895600@gallatincommunitygunclub.org
SUMMARY:‼️Stop the Bleed with Forward Montana
DESCRIPTION:GCGC collaborating a STB event with Forward Montana. There will be 5 med kits to be raffled off\, and will be going over a what you should have in your medical kit. \n  \nRegister Here: https://secure.ngpvan.com/WzmhD0svzUODR_CqmKxWgA2
URL:https://gallatincommunitygunclub.org/event/stop-the-bleed-for-forward-montana/
CATEGORIES:Class
ATTACH;FMTTYPE=image/png:https://gallatincommunitygunclub.org/wp-content/uploads/2026/02/IMG_20260302_195826.png
END:VEVENT
BEGIN:VEVENT
DTSTART;TZID=America/Denver:20260307T160000
DTEND;TZID=America/Denver:20260307T180000
DTSTAMP:20260423T043121
CREATED:20260221T012332Z
LAST-MODIFIED:20260221T133330Z
UID:4196-1772899200-1772906400@gallatincommunitygunclub.org
SUMMARY:🌟Intro to Firearms
DESCRIPTION:This class focuses on safe firearm handling\, foundational knowledge\, and responsible use in a structured\, instructor-led environment. \nRegister Below
URL:https://gallatincommunitygunclub.org/event/intro-to-firearms/
CATEGORIES:Class
ATTACH;FMTTYPE=image/png:https://gallatincommunitygunclub.org/wp-content/uploads/2026/02/Intro-to-Firearms.png
END:VEVENT
END:VCALENDAR