BEGIN:VCALENDAR
VERSION:2.0
PRODID:-//Gallatin Community Gun Club - ECPv6.15.20//NONSGML v1.0//EN
CALSCALE:GREGORIAN
METHOD:PUBLISH
X-WR-CALNAME:Gallatin Community Gun Club
X-ORIGINAL-URL:https://gallatincommunitygunclub.org
X-WR-CALDESC:Events for Gallatin Community Gun Club
REFRESH-INTERVAL;VALUE=DURATION:PT1H
X-Robots-Tag:noindex
X-PUBLISHED-TTL:PT1H
BEGIN:VTIMEZONE
TZID:America/Denver
BEGIN:DAYLIGHT
TZOFFSETFROM:-0700
TZOFFSETTO:-0600
TZNAME:MDT
DTSTART:20250309T090000
END:DAYLIGHT
BEGIN:STANDARD
TZOFFSETFROM:-0600
TZOFFSETTO:-0700
TZNAME:MST
DTSTART:20251102T080000
END:STANDARD
BEGIN:DAYLIGHT
TZOFFSETFROM:-0700
TZOFFSETTO:-0600
TZNAME:MDT
DTSTART:20260308T090000
END:DAYLIGHT
BEGIN:STANDARD
TZOFFSETFROM:-0600
TZOFFSETTO:-0700
TZNAME:MST
DTSTART:20261101T080000
END:STANDARD
BEGIN:DAYLIGHT
TZOFFSETFROM:-0700
TZOFFSETTO:-0600
TZNAME:MDT
DTSTART:20270314T090000
END:DAYLIGHT
BEGIN:STANDARD
TZOFFSETFROM:-0600
TZOFFSETTO:-0700
TZNAME:MST
DTSTART:20271107T080000
END:STANDARD
END:VTIMEZONE
BEGIN:VEVENT
DTSTART;TZID=America/Denver:20260412T173000
DTEND;TZID=America/Denver:20260412T200000
DTSTAMP:20260423T033119
CREATED:20260228T231712Z
LAST-MODIFIED:20260228T231924Z
UID:4373-1776015000-1776024000@gallatincommunitygunclub.org
SUMMARY:🎲Game Night + Fundraiser
DESCRIPTION:Join us at Valhalla Meadery for a Game Night + Fundraiser! A portion of the evening’s sales will be donated to GCGC\, so grab a drink\, bring a friend\, and come support a great cause. We’ll also have a raffle table with some fun prizes\, don’t miss it!
URL:https://gallatincommunitygunclub.org/event/valhalla-meadery-game-night-fundraiser-041226/
LOCATION:Valhalla Meadery\, 875 Bridger Dr.\, Bozeman\, MT\, 59718\, United States
CATEGORIES:Event
ATTACH;FMTTYPE=image/png:https://gallatincommunitygunclub.org/wp-content/uploads/2026/02/Game-Night-Fundraiser.png
END:VEVENT
END:VCALENDAR