BEGIN:VCALENDAR
VERSION:2.0
PRODID:-//Gallatin Community Gun Club - ECPv6.15.20//NONSGML v1.0//EN
CALSCALE:GREGORIAN
METHOD:PUBLISH
X-WR-CALNAME:Gallatin Community Gun Club
X-ORIGINAL-URL:https://gallatincommunitygunclub.org
X-WR-CALDESC:Events for Gallatin Community Gun Club
REFRESH-INTERVAL;VALUE=DURATION:PT1H
X-Robots-Tag:noindex
X-PUBLISHED-TTL:PT1H
BEGIN:VTIMEZONE
TZID:America/Denver
BEGIN:DAYLIGHT
TZOFFSETFROM:-0700
TZOFFSETTO:-0600
TZNAME:MDT
DTSTART:20250309T090000
END:DAYLIGHT
BEGIN:STANDARD
TZOFFSETFROM:-0600
TZOFFSETTO:-0700
TZNAME:MST
DTSTART:20251102T080000
END:STANDARD
BEGIN:DAYLIGHT
TZOFFSETFROM:-0700
TZOFFSETTO:-0600
TZNAME:MDT
DTSTART:20260308T090000
END:DAYLIGHT
BEGIN:STANDARD
TZOFFSETFROM:-0600
TZOFFSETTO:-0700
TZNAME:MST
DTSTART:20261101T080000
END:STANDARD
BEGIN:DAYLIGHT
TZOFFSETFROM:-0700
TZOFFSETTO:-0600
TZNAME:MDT
DTSTART:20270314T090000
END:DAYLIGHT
BEGIN:STANDARD
TZOFFSETFROM:-0600
TZOFFSETTO:-0700
TZNAME:MST
DTSTART:20271107T080000
END:STANDARD
END:VTIMEZONE
BEGIN:VEVENT
DTSTART;TZID=America/Denver:20260329T200000
DTEND;TZID=America/Denver:20260329T210000
DTSTAMP:20260421T101845
CREATED:20260224T042716Z
LAST-MODIFIED:20260224T042716Z
UID:4346-1774814400-1774818000@gallatincommunitygunclub.org
SUMMARY:🗣️ Peer Support Group (In-Person/Online)
DESCRIPTION:The GCGC Support Group is a community-based space focused on connection\, shared experience\, and mutual support. This group exists to offer a respectful\, inclusive environment where members can talk\, listen\, and feel less alone. \nWhat This Group Is \n\nA peer support group\, not formal therapy\nA space for conversation\, reflection\, and shared experiences\nHybrid format: in-person and virtual participants together\nFacilitated to support safety\, structure\, and respect\nVoluntary — you choose what\, when\, and how much you share\n\nWhat This Group Is Not \n\nNot clinical therapy or counseling\nNot crisis intervention or emergency care\nNot a replacement for professional mental health services\n\nParticipation does not create a therapist-client relationship.
URL:https://gallatincommunitygunclub.org/event/%f0%9f%97%a3%ef%b8%8f-peer-support-group-in-person-online-4/
CATEGORIES:Meeting
END:VEVENT
END:VCALENDAR