BEGIN:VCALENDAR
VERSION:2.0
PRODID:-//Gallatin Community Gun Club - ECPv6.15.20//NONSGML v1.0//EN
CALSCALE:GREGORIAN
METHOD:PUBLISH
X-WR-CALNAME:Gallatin Community Gun Club
X-ORIGINAL-URL:https://gallatincommunitygunclub.org
X-WR-CALDESC:Events for Gallatin Community Gun Club
REFRESH-INTERVAL;VALUE=DURATION:PT1H
X-Robots-Tag:noindex
X-PUBLISHED-TTL:PT1H
BEGIN:VTIMEZONE
TZID:America/Denver
BEGIN:DAYLIGHT
TZOFFSETFROM:-0700
TZOFFSETTO:-0600
TZNAME:MDT
DTSTART:20250309T090000
END:DAYLIGHT
BEGIN:STANDARD
TZOFFSETFROM:-0600
TZOFFSETTO:-0700
TZNAME:MST
DTSTART:20251102T080000
END:STANDARD
BEGIN:DAYLIGHT
TZOFFSETFROM:-0700
TZOFFSETTO:-0600
TZNAME:MDT
DTSTART:20260308T090000
END:DAYLIGHT
BEGIN:STANDARD
TZOFFSETFROM:-0600
TZOFFSETTO:-0700
TZNAME:MST
DTSTART:20261101T080000
END:STANDARD
BEGIN:DAYLIGHT
TZOFFSETFROM:-0700
TZOFFSETTO:-0600
TZNAME:MDT
DTSTART:20270314T090000
END:DAYLIGHT
BEGIN:STANDARD
TZOFFSETFROM:-0600
TZOFFSETTO:-0700
TZNAME:MST
DTSTART:20271107T080000
END:STANDARD
END:VTIMEZONE
BEGIN:VEVENT
DTSTART;TZID=America/Denver:20260503T100000
DTEND;TZID=America/Denver:20260503T120000
DTSTAMP:20260423T044102
CREATED:20260419T222944Z
LAST-MODIFIED:20260419T223035Z
UID:4752-1777802400-1777809600@gallatincommunitygunclub.org
SUMMARY:💥Instructor Meeting
DESCRIPTION:This meeting is open to all current GCGC instructors as well as anyone interested in becoming a volunteer instructor with the club. We’ll cover expectations\, upcoming class opportunities\, and ways you can get involved in teaching and supporting our programs. It’s also a chance to connect with other instructors\, share ideas\, and learn more about how we run classes and prioritize safety\, accessibility\, and community impact. \nIf you’ve been thinking about instructing but aren’t sure where to start\, this is a great place to ask questions and get a feel for the role\, no pressure or prior teaching experience required. \nIf you have any questions ahead of time\, feel free to email us. Please RSVP if you plan to attend so we can get an accurate headcount and plan accordingly! \nRSVP: https://tidycal.com/gallatincommunitygunclub/may-2026-instructor-meeting
URL:https://gallatincommunitygunclub.org/event/%f0%9f%92%a5instructor-meeting/
CATEGORIES:Meeting
END:VEVENT
END:VCALENDAR